BEGIN:VCALENDAR
VERSION:2.0
PRODID:-//Raising Winners, Possessing Nations - ECPv5.5.0.1//NONSGML v1.0//EN
CALSCALE:GREGORIAN
METHOD:PUBLISH
X-WR-CALNAME:Raising Winners, Possessing Nations
X-ORIGINAL-URL:https://alccnyc.org
X-WR-CALDESC:Events for Raising Winners, Possessing Nations
BEGIN:VTIMEZONE
TZID:America/New_York
BEGIN:DAYLIGHT
TZOFFSETFROM:-0500
TZOFFSETTO:-0400
TZNAME:EDT
DTSTART:20240310T070000
END:DAYLIGHT
BEGIN:STANDARD
TZOFFSETFROM:-0400
TZOFFSETTO:-0500
TZNAME:EST
DTSTART:20241103T060000
END:STANDARD
END:VTIMEZONE
BEGIN:VEVENT
DTSTART;TZID=America/New_York:20240225T080000
DTEND;TZID=America/New_York:20240225T100000
DTSTAMP:20260419T093638
CREATED:20240203T181326Z
LAST-MODIFIED:20240203T181326Z
UID:4762-1708848000-1708855200@alccnyc.org
SUMMARY:The Beauty of Forgiveness - 1st Service
DESCRIPTION:
URL:https://alccnyc.org/event/the-beauty-of-forgiveness-1st-service/
LOCATION:ALCC Winnershouse\, 32 E98 Street\, Brooklyn\, NY\, 11212\, United States
END:VEVENT
END:VCALENDAR